BEGIN:VCALENDAR
VERSION:2.0
PRODID:-//Rando&#039;s Limousin - ECPv6.15.20//NONSGML v1.0//EN
CALSCALE:GREGORIAN
METHOD:PUBLISH
X-WR-CALNAME:Rando&#039;s Limousin
X-ORIGINAL-URL:https://randoslimousin.org
X-WR-CALDESC:Évènements pour Rando&#039;s Limousin
REFRESH-INTERVAL;VALUE=DURATION:PT1H
X-Robots-Tag:noindex
X-PUBLISHED-TTL:PT1H
BEGIN:VTIMEZONE
TZID:UTC
BEGIN:STANDARD
TZOFFSETFROM:+0000
TZOFFSETTO:+0000
TZNAME:UTC
DTSTART:20240101T000000
END:STANDARD
END:VTIMEZONE
BEGIN:VEVENT
DTSTART;TZID=UTC:20250504T110000
DTEND;TZID=UTC:20250504T173000
DTSTAMP:20260423T105457
CREATED:20250109T142651Z
LAST-MODIFIED:20250417T144217Z
UID:1096-1746356400-1746379800@randoslimousin.org
SUMMARY:Dimanche 4 Mai 2025 : Visite du Château de Losse + petite randonnée (24290)
DESCRIPTION:Nous visiterons le château de Losse\, dès le XIe siècle la famille de Losse venant de Flandres\, s’est établie et a construit une place forte dans la Vallée de la Vézère. Leur présence est attestée depuis cette date dans le réseau féodal. Plus tard c’est au service des rois de France que les Losse se distinguent.​ \n\nC’est à Jean II de Losse (1504-1580) que l’on doit l’insertion du Grand Logis et de sa terrasse Renaissance dans la forteresse. \nNous terminerons cette journée par une petite randonnée d’environ 5\,5 km à Montignac-Lascaux \nHeure et lieu de Rendez-Vous : à 11 h sur le parking du château de Losse. Nous débuterons par la visite du château (prévoir 12 € pour l’entrée) puis nous pique niquerons dans le parc. \nAdresse : Allée Jean II de Losse 24290 Thonac \nConsignes : Prévoir pique nique
URL:https://randoslimousin.org/event/dimanche-7-septembre-2025-visite-chateau-de-losse-24
LOCATION:Thonac\, All. Jean II de Losse\, THONAC\, 24290\, France
CATEGORIES:Randonnée 2025
ATTACH;FMTTYPE=image/jpeg:https://randoslimousin.org/wp-content/uploads/2025/01/chateau-de-losse-23-05.jpg
END:VEVENT
BEGIN:VEVENT
DTSTART;VALUE=DATE:20250516
DTEND;VALUE=DATE:20250519
DTSTAMP:20260423T105457
CREATED:20250217T164618Z
LAST-MODIFIED:20250512T083033Z
UID:1138-1747353600-1747612799@randoslimousin.org
SUMMARY:Vendredi 16 au Dimanche 18 Mai 2025 : Visite Châteaux - Autour de Montpazier
DESCRIPTION:Pour cet événement il faut impérativement s’inscrire soit par l’intermédiaire du groupe Whatsapp de Rando’s Limousin soit par mail à asso@randoslimousin.org
URL:https://randoslimousin.org/event/vendredi-16-au-dimanche-18-mai-2025-visite-chateaux-autour-de-montpazier
CATEGORIES:Randonnée 2025
ATTACH;FMTTYPE=image/jpeg:https://randoslimousin.org/wp-content/uploads/2025/02/2020-10-17.jpg
END:VEVENT
BEGIN:VEVENT
DTSTART;TZID=UTC:20250525T110000
DTEND;TZID=UTC:20250525T170000
DTSTAMP:20260423T105457
CREATED:20250109T142300Z
LAST-MODIFIED:20250513T075039Z
UID:1088-1748170800-1748192400@randoslimousin.org
SUMMARY:Dimanche 25 Mai 2025 : Grandmont (87)
DESCRIPTION:Pour cette dernière randonnée à Grandmont (87) nous ferons la suite de la randonnée que nous n’avons pas encore faite. \nHeure et lieu de RDV : Le départ est prévue à 11 h sur le parking de la petite chapelle de Grandmont(87). \nConsignes : Prévoir pique-nique
URL:https://randoslimousin.org/event/dimanche-25-mai-2025-gramont-87
LOCATION:Grandmont\, La chapelle\, GRANDMONT\, 87240\, France
CATEGORIES:Randonnée 2025
ATTACH;FMTTYPE=image/jpeg:https://randoslimousin.org/wp-content/uploads/2024/06/chapelle.jpg
END:VEVENT
END:VCALENDAR