BEGIN:VCALENDAR
VERSION:2.0
PRODID:-//Rando&#039;s Limousin - ECPv6.15.20//NONSGML v1.0//EN
CALSCALE:GREGORIAN
METHOD:PUBLISH
X-ORIGINAL-URL:https://randoslimousin.org
X-WR-CALDESC:Évènements pour Rando&#039;s Limousin
REFRESH-INTERVAL;VALUE=DURATION:PT1H
X-Robots-Tag:noindex
X-PUBLISHED-TTL:PT1H
BEGIN:VTIMEZONE
TZID:UTC
BEGIN:STANDARD
TZOFFSETFROM:+0000
TZOFFSETTO:+0000
TZNAME:UTC
DTSTART:20230101T000000
END:STANDARD
END:VTIMEZONE
BEGIN:VEVENT
DTSTART;TZID=UTC:20240728T120000
DTEND;TZID=UTC:20240728T170000
DTSTAMP:20260425T144642
CREATED:20240120T155327Z
LAST-MODIFIED:20240526T082421Z
UID:793-1722168000-1722186000@randoslimousin.org
SUMMARY:Dimanche 28 Juillet 2024 : Restaurant à Périgueux Chez ALFRED (24)
DESCRIPTION:Philippe de Périgueux nous propose une sortie restaurant Chez ALFRED 80 rue des Bains 24750 Boulazac\n\nRendez-Vous : Parking devant le restaurant entre 11 h 45 et 12 h\n\nUn mail a été envoyé aux adhérents pour la réservation et les choix parmi le menu proposé.
URL:https://randoslimousin.org/event/dimanche-21-juillet-2024-restaurant-a-perigueux-24
LOCATION:Boulazac\, 80 rue des Bains\, BOULAZAC\, 24750\, France
CATEGORIES:Randonnée 2024
ATTACH;FMTTYPE=image/jpeg:https://randoslimousin.org/wp-content/uploads/2022/01/img_5184-1024x768-1.jpg
END:VEVENT
END:VCALENDAR