BEGIN:VCALENDAR
VERSION:2.0
PRODID:-//Rando&#039;s Limousin - ECPv6.15.20//NONSGML v1.0//EN
CALSCALE:GREGORIAN
METHOD:PUBLISH
X-ORIGINAL-URL:https://randoslimousin.org
X-WR-CALDESC:Évènements pour Rando&#039;s Limousin
REFRESH-INTERVAL;VALUE=DURATION:PT1H
X-Robots-Tag:noindex
X-PUBLISHED-TTL:PT1H
BEGIN:VTIMEZONE
TZID:UTC
BEGIN:STANDARD
TZOFFSETFROM:+0000
TZOFFSETTO:+0000
TZNAME:UTC
DTSTART:20240101T000000
END:STANDARD
END:VTIMEZONE
BEGIN:VEVENT
DTSTART;TZID=UTC:20251207T120000
DTEND;TZID=UTC:20251207T150000
DTSTAMP:20260419T225147
CREATED:20251107T150104Z
LAST-MODIFIED:20251107T150138Z
UID:1306-1765108800-1765119600@randoslimousin.org
SUMMARY:Dimanche 7 Décembre 2025 : Repas Fin d'Année de Rando's Limousin
DESCRIPTION:Le repas de fin d’année de l’association se tiendra à SEILHAC (19700) au Relais des Monédières. \nHeure de rendez-vous : 12 h \nLe menu a été envoyé sur notre compte Whatsapp
URL:https://randoslimousin.org/event/dimanche-7-decembre-2025-repas-fin-dannee-de-randos-limousin
LOCATION:Relais des Monédières\, 34 Montargis\, SEILHAC\, 19700\, France
CATEGORIES:Randonnée 2025
ATTACH;FMTTYPE=image/jpeg:https://randoslimousin.org/wp-content/uploads/2025/11/1672036376_146_34-illustrations-torrides-du-Pere-Noel-gay-pour-sonner-pendant.jpg
ORGANIZER;CN="Bureau et Conseil d'Administration":MAILTO:asso@randoslimousin.org
END:VEVENT
END:VCALENDAR