BEGIN:VCALENDAR
VERSION:2.0
PRODID:-//Rando&#039;s Limousin - ECPv6.15.20//NONSGML v1.0//EN
CALSCALE:GREGORIAN
METHOD:PUBLISH
X-WR-CALNAME:Rando&#039;s Limousin
X-ORIGINAL-URL:https://randoslimousin.org
X-WR-CALDESC:Évènements pour Rando&#039;s Limousin
REFRESH-INTERVAL;VALUE=DURATION:PT1H
X-Robots-Tag:noindex
X-PUBLISHED-TTL:PT1H
BEGIN:VTIMEZONE
TZID:UTC
BEGIN:STANDARD
TZOFFSETFROM:+0000
TZOFFSETTO:+0000
TZNAME:UTC
DTSTART:20240101T000000
END:STANDARD
END:VTIMEZONE
BEGIN:VEVENT
DTSTART;TZID=UTC:20250105T130000
DTEND;TZID=UTC:20250105T170000
DTSTAMP:20260421T082553
CREATED:20241211T170642Z
LAST-MODIFIED:20241217T101133Z
UID:1054-1736082000-1736096400@randoslimousin.org
SUMMARY:Dimanche 5 Janvier 2025 : Galette des Rois + Assemblée Générale de Rando's Limousin
DESCRIPTION:L’année 2025 débutera par la galette des Rois et l’assemblée générale de notre association. Nous dégusterons la galette des rois à Lagleygeolle de Nespouls. Nous débuterons par une petite randonnée puis nous nous retrouverons autour des galettes. Nous profiterons de ce moment convivial pour faire l’AG de l’association. \nRDV à 13 h 00 devant la maison à Lagleygeolle 19600 NESPOULS. \nAttention les galettes sont offertes par l’association. \nPrendre la sortie 52 de l’A20 à hauteur de Noailles puis direction le Gouffre de la Fage et enfin Lagleygeolle
URL:https://randoslimousin.org/event/dimanche-5-janvier-2025-galette-des-rois-assemblee-generale-de-randos-limousin
LOCATION:Lagleygeolle\, Lagleygeolles\, NESPOULS\, 19600\, France
CATEGORIES:Randonnée 2025
ATTACH;FMTTYPE=image/jpeg:https://randoslimousin.org/wp-content/uploads/2024/12/images.jpg
ORGANIZER;CN="Yves et Jean-Yves":MAILTO:asso@randoslimousin.org
END:VEVENT
END:VCALENDAR