BEGIN:VCALENDAR
VERSION:2.0
PRODID:-//Rando&#039;s Limousin - ECPv6.15.20//NONSGML v1.0//EN
CALSCALE:GREGORIAN
METHOD:PUBLISH
X-WR-CALNAME:Rando&#039;s Limousin
X-ORIGINAL-URL:https://randoslimousin.org
X-WR-CALDESC:Évènements pour Rando&#039;s Limousin
REFRESH-INTERVAL;VALUE=DURATION:PT1H
X-Robots-Tag:noindex
X-PUBLISHED-TTL:PT1H
BEGIN:VTIMEZONE
TZID:UTC
BEGIN:STANDARD
TZOFFSETFROM:+0000
TZOFFSETTO:+0000
TZNAME:UTC
DTSTART:20230101T000000
END:STANDARD
END:VTIMEZONE
BEGIN:VEVENT
DTSTART;TZID=UTC:20240908T113000
DTEND;TZID=UTC:20240908T170000
DTSTAMP:20260425T131123
CREATED:20240617T124625Z
LAST-MODIFIED:20240831T095742Z
UID:889-1725795000-1725814800@randoslimousin.org
SUMMARY:Dimanche 8 Septembre 2024 : Viaduc des Rochers Noirs (19)
DESCRIPTION:Situé sur les communes de Lapleau et de Soursac\, cet ouvrage audacieux enjambe les gorges de la Luzège à 92 mètres de hauteur et long de 140 mètres. \nPour ceux qui le souhaitent\, nous prendrons le pique-nique sur la place de l’église car il y a des tables à proximité \nLieu et heure du RDV : Place de l’église à Soursac (19500) à 11 h 30 (Pour ceux et celles qui pensent arriver plus tard RDV vers 13 h 30 sur cette même place) \nDistance et durée : env. 7 Km (aller et retour)\, 3 heures \nDifficulté : facile à moyen \nConsignes : prévoir pique-nique
URL:https://randoslimousin.org/event/dimanche-8-septembre-2024-varetz-ou-jugeals-nazareth-19
LOCATION:Soursac\, Place de l'église\, SOURSAC\, 19550\, France
CATEGORIES:Randonnée 2024
ATTACH;FMTTYPE=image/jpeg:https://randoslimousin.org/wp-content/uploads/2024/06/OF_8053.jpg
END:VEVENT
END:VCALENDAR